BEGIN:VCALENDAR
VERSION:2.0
CALSCALE:GREGORIAN
METHOD:PUBLISH
PRODID:-//CSMusic.cz//Akce//EN
BEGIN:VEVENT
UID:akce_69a959dea6bf82.57367855
DTSTAMP:20260305T112430
DTSTART:20260219T000000
DTEND:20260219T000000
SUMMARY:Propadleek - Brno
LOCATION:Fléda, Brno
DESCRIPTION:Propadleek - Brno - Fléda, Brno
END:VEVENT
END:VCALENDAR