BEGIN:VCALENDAR
VERSION:2.0
CALSCALE:GREGORIAN
METHOD:PUBLISH
PRODID:-//CSMusic.cz//Akce//EN
BEGIN:VEVENT
UID:akce_69b191bd9713a9.53350467
DTSTAMP:20260311T170101
DTSTART:20250307T000000
DTEND:20250307T000000
SUMMARY:Poletíme? - Hvězdy těžký tour maj - Frýdek-Místek
LOCATION:Stoun, Frýdek-Místek
DESCRIPTION:Poletíme? - Hvězdy těžký tour maj - Frýdek-Místek - Stoun, Frýdek-Místek
END:VEVENT
END:VCALENDAR