BEGIN:VCALENDAR
VERSION:2.0
CALSCALE:GREGORIAN
METHOD:PUBLISH
PRODID:-//CSMusic.cz//Akce//EN
BEGIN:VEVENT
UID:akce_69df6bfb94d063.76282662
DTSTAMP:20260415T124411
DTSTART:20250718T000000
DTEND:20250719T000000
SUMMARY:Footfest - Želeč
LOCATION:, Želeč
DESCRIPTION:Footfest - Želeč - , Želeč
END:VEVENT
END:VCALENDAR