BEGIN:VCALENDAR
VERSION:2.0
CALSCALE:GREGORIAN
METHOD:PUBLISH
PRODID:-//CSMusic.cz//Akce//EN
BEGIN:VEVENT
UID:akce_69e1f11746abb2.05847177
DTSTAMP:20260417T103639
DTSTART:20250329T000000
DTEND:20250329T000000
SUMMARY:Floyds - Winter Pulse Tour 2025 - Karviná
LOCATION:Městský dům kultury, Karviná
DESCRIPTION:Floyds - Winter Pulse Tour 2025 - Karviná - Městský dům kultury, Karviná
END:VEVENT
END:VCALENDAR