BEGIN:VCALENDAR
VERSION:2.0
CALSCALE:GREGORIAN
METHOD:PUBLISH
PRODID:-//CSMusic.cz//Akce//EN
BEGIN:VEVENT
UID:akce_69e1f17b786826.24449072
DTSTAMP:20260417T103819
DTSTART:20251031T000000
DTEND:20251031T000000
SUMMARY:Dead Dog Legacy - tour 2025 - Olomouc
LOCATION:Hellpasso Music Club, Olomouc
DESCRIPTION:Dead Dog Legacy - tour 2025 - Olomouc - Hellpasso Music Club, Olomouc
END:VEVENT
END:VCALENDAR