BEGIN:VCALENDAR
VERSION:2.0
CALSCALE:GREGORIAN
METHOD:PUBLISH
PRODID:-//CSMusic.cz//Akce//EN
BEGIN:VEVENT
UID:akce_69e1f72b990641.32063984
DTSTAMP:20260417T110235
DTSTART:20250403T000000
DTEND:20250403T000000
SUMMARY:Chinaski - 30 let - Slovenské turné 2025 - Banská Bystrica
LOCATION:Aula SZU, Banská Bystrica
DESCRIPTION:Chinaski - 30 let - Slovenské turné 2025 - Banská Bystrica - Aula SZU, Banská Bystrica
END:VEVENT
END:VCALENDAR