BEGIN:VCALENDAR
VERSION:2.0
CALSCALE:GREGORIAN
METHOD:PUBLISH
PRODID:-//CSMusic.cz//Akce//EN
BEGIN:VEVENT
UID:akce_69e1ff1a05fe73.51605870
DTSTAMP:20260417T113626
DTSTART:20251126T000000
DTEND:20251126T000000
SUMMARY:Michal Horák - Praha
LOCATION:Divadlo Hybernia, Praha
DESCRIPTION:Michal Horák - Praha - Divadlo Hybernia, Praha
END:VEVENT
END:VCALENDAR