BEGIN:VCALENDAR
VERSION:2.0
CALSCALE:GREGORIAN
METHOD:PUBLISH
PRODID:-//CSMusic.cz//Akce//EN
BEGIN:VEVENT
UID:akce_69e78f886fdff1.90174418
DTSTAMP:20260421T165400
DTSTART:20170915T000000
DTEND:20170917T000000
SUMMARY:Hrnčířský jarmark 2017 - Kunštát
LOCATION:, Kunštát
DESCRIPTION:Hrnčířský jarmark 2017 - Kunštát - , Kunštát
END:VEVENT
END:VCALENDAR